BEGIN:VCALENDAR
VERSION:2.0
CREATED:20260417T124140Z
PRODID:-//Cinemark Holdings\, Inc./Equisolve Calendar v1.0//EN
METHOD:PUBLISH
BEGIN:VEVENT
UID:a3ba7bb094b57619b6ab6b67b71c6604
DTSTAMP:20260419T141938Z
DTSTART:20260501T123000Z
DTEND:20260501T133000Z
SUMMARY:First Quarter 2026 Earnings Conference Call
DESCRIPTION:First Quarter 2026 Earnings Conference Call
Date: May 1\, 2026 8:30 am EDT
Webcast: https://event.choruscall.com/mediaframe/webcast.html?webcastid=RZXqr90L
END:VEVENT
END:VCALENDAR
